BEGIN:VCALENDAR
VERSION:2.0
PRODID:20260425T102418@https://mayfairtheatre.ca?barker_action=event-listin
 g-ical&event_listing_id=47584
X-WR-CALNAME:Mayfair Theatre Event Listings
BEGIN:VEVENT
UID:https://mayfairtheatre.ca/barker_event_listing/47584/
DTSTART;TZID=America/Toronto:20260426T150000
SEQUENCE:0
TRANSP:OPAQUE
DTEND;TZID=America/Toronto:20260426T150000
URL:https://mayfairtheatre.ca/movie/private-rental/
LOCATION:1074 Bank St. Ottawa Ontario Canada K1S 3X3
SUMMARY:Private Event (Closed to the public)
CLASS:PUBLIC
DESCRIPTION:The Mayfair Theatre is a one-of-a-kind venue for weddings\, fil
 m premieres\, private screenings\, live theatre\, stand-up comedy\, live m
 usic\, book launches\, speaking engagements\, corporate functions\, video 
 games — and more. To learn more\, or to book the Mayfair Theatre for you
 r event or activity\,  please email Lee Demarbre.
DTSTAMP:20260425T142418Z
LAST-MODIFIED:20251101T082633Z
END:VEVENT
END:VCALENDAR