BEGIN:VCALENDAR
VERSION:2.0
PRODID:20260420T023655@https://mayfairtheatre.ca?barker_action=event-listin
 g-ical&event_listing_id=47652
X-WR-CALNAME:Mayfair Theatre Event Listings
BEGIN:VEVENT
UID:https://mayfairtheatre.ca/barker_event_listing/47652/
DTSTART;TZID=America/Toronto:20260423T183000
SEQUENCE:0
TRANSP:OPAQUE
DTEND;TZID=America/Toronto:20260423T183000
URL:https://mayfairtheatre.ca/movie/nirvanna/
LOCATION:1074 Bank St. Ottawa Ontario Canada K1S 3X3
SUMMARY:Nirvanna the Band the Show the Movie
CLASS:PUBLIC
DESCRIPTION:Nirvanna the Band the Show the Movie – Held Over for a 3rd We
 ek\, screening on April 17\, 22\, 23! Advance tickets now available for Ni
 rvanna The Band The Show The Movie week 3! Held Over for a 4th Week – Sc
 reening on April 25\, 27\, 29! Advance ticket…
DTSTAMP:20260420T063655Z
LAST-MODIFIED:20260419T083045Z
END:VEVENT
END:VCALENDAR