BEGIN:VCALENDAR
VERSION:2.0
PRODID:20260422T104357@https://mayfairtheatre.ca?barker_action=event-listin
 g-ical&event_listing_id=47700
X-WR-CALNAME:Mayfair Theatre Event Listings
BEGIN:VEVENT
UID:https://mayfairtheatre.ca/barker_event_listing/47700/
DTSTART;TZID=America/Toronto:20260607T113000
SEQUENCE:0
TRANSP:OPAQUE
DTEND;TZID=America/Toronto:20260607T113000
URL:https://mayfairtheatre.ca/movie/mamma-mia-here-we-go-again/
LOCATION:1074 Bank St. Ottawa Ontario Canada K1S 3X3
SUMMARY:Mamma Mia! Here We Go Again: Sing-a-Long Company Of Fools fundraise
 r
CLASS:PUBLIC
DESCRIPTION:Mamma Mia! Here We Go Again: Sing-along Company Of Fools fundra
 iser – Screening on Sunday June 11! Advance tickets now available for Ma
 mma Mia! Here We Go Again! Voulez-Vous a Mamma Mia Sing-a-Long with the Fo
 ols?! That’s right\, it’s time to once again dust off your platform bo
 ots and…
DTSTAMP:20260422T144357Z
LAST-MODIFIED:20260414T163246Z
END:VEVENT
END:VCALENDAR