BEGIN:VCALENDAR
VERSION:2.0
PRODID:20260421T041216@https://mayfairtheatre.ca?barker_action=event-listin
 g-ical&event_listing_id=47711
X-WR-CALNAME:Mayfair Theatre Event Listings
BEGIN:VEVENT
UID:https://mayfairtheatre.ca/barker_event_listing/47711/
DTSTART;TZID=America/Toronto:20260501T183000
SEQUENCE:0
TRANSP:OPAQUE
DTEND;TZID=America/Toronto:20260501T183000
URL:https://mayfairtheatre.ca/movie/a-new-hope/
LOCATION:1074 Bank St. Ottawa Ontario Canada K1S 3X3
SUMMARY:Star Wars: Episode IV – A New Hope
CLASS:PUBLIC
DESCRIPTION:Star Wars: Episode IV – A New Hope – Screening on May 1\, 4
 ! Advance tickets now available for Star Wars: Episode IV – A New Hope! 
 A farmboy joins forces with various allies to save their galaxy from the e
 vil Empire’s planet-destroying battle station\, while also rescuing the
 …
DTSTAMP:20260421T081216Z
LAST-MODIFIED:20260416T160200Z
END:VEVENT
END:VCALENDAR