BEGIN:VCALENDAR
VERSION:2.0
PRODID:20260421T042828@https://mayfairtheatre.ca?barker_action=event-listin
 g-ical&event_listing_id=47715
X-WR-CALNAME:Mayfair Theatre Event Listings
BEGIN:VEVENT
UID:https://mayfairtheatre.ca/barker_event_listing/47715/
DTSTART;TZID=America/Toronto:20260504T204500
SEQUENCE:0
TRANSP:OPAQUE
DTEND;TZID=America/Toronto:20260504T204500
URL:https://mayfairtheatre.ca/movie/return-of-the-jedi/
LOCATION:1074 Bank St. Ottawa Ontario Canada K1S 3X3
SUMMARY:Star Wars: Episode VI – Return Of The Jedi
CLASS:PUBLIC
DESCRIPTION:Star Wars: Episode VI – Return Of The Jedi – Screening on M
 ay 3\, 4! Advance tickets now available for Star Wars: Episode VI – Retu
 rn Of The Jedi! Luke Skywalker leads a mission to rescue his friend Han So
 lo from the clutches of Jabba the Hutt\, the Emperor…
DTSTAMP:20260421T082828Z
LAST-MODIFIED:20260416T160734Z
END:VEVENT
END:VCALENDAR