BEGIN:VCALENDAR
VERSION:2.0
PRODID:20260424T103938@https://mayfairtheatre.ca?barker_action=event-listin
 g-ical&event_listing_id=47731
X-WR-CALNAME:Mayfair Theatre Event Listings
BEGIN:VEVENT
UID:https://mayfairtheatre.ca/barker_event_listing/47731/
DTSTART;TZID=America/Toronto:20260424T161500
SEQUENCE:0
TRANSP:OPAQUE
DTEND;TZID=America/Toronto:20260424T161500
URL:https://mayfairtheatre.ca/movie/the-blue-trail/
LOCATION:1074 Bank St. Ottawa Ontario Canada K1S 3X3
SUMMARY:The Blue Trail
CLASS:PUBLIC
DESCRIPTION:The Blue Trail – Screening on April 24\, 26-29! Advance ticke
 ts now available for The Blue Trail! To maximize economic productivity\, t
 he Brazilian government orders elderly people to move to remote housing co
 lonies. A 77-year-old woman refuses and embarks on a journey through the A
 mazon that will change her…
DTSTAMP:20260424T143938Z
LAST-MODIFIED:20260420T143842Z
END:VEVENT
END:VCALENDAR