BEGIN:VCALENDAR
VERSION:2.0
PRODID:20260423T093041@https://mayfairtheatre.ca?barker_action=event-listin
 g-ical&event_listing_id=47733
X-WR-CALNAME:Mayfair Theatre Event Listings
BEGIN:VEVENT
UID:https://mayfairtheatre.ca/barker_event_listing/47733/
DTSTART;TZID=America/Toronto:20260424T213000
SEQUENCE:0
TRANSP:OPAQUE
DTEND;TZID=America/Toronto:20260424T213000
URL:https://mayfairtheatre.ca/movie/rocky-horror/
LOCATION:1074 Bank St. Ottawa Ontario Canada K1S 3X3
SUMMARY:The Rocky Horror Picture Show
CLASS:PUBLIC
DESCRIPTION:The Rocky Horror Picture Show returns on Friday April 24! Hoste
 d by The Absent Friends Shadow Cast! Advance tickets now available for The
  Rocky Horror Picture Show! Tickets: $10.50 children | $11.50 members | $1
 6.00 non-members | $12.50 seniors. Sweethearts Brad and Janet\, stuck with
  a flat tire during…
DTSTAMP:20260423T133041Z
LAST-MODIFIED:20260420T144235Z
END:VEVENT
END:VCALENDAR