BEGIN:VCALENDAR
VERSION:2.0
PRODID:20260420T023557@https://mayfairtheatre.ca?barker_action=event-listin
 g-ical&event_listing_id=47744
X-WR-CALNAME:Mayfair Theatre Event Listings
BEGIN:VEVENT
UID:https://mayfairtheatre.ca/barker_event_listing/47744/
DTSTART;TZID=America/Toronto:20260428T210000
SEQUENCE:0
TRANSP:OPAQUE
DTEND;TZID=America/Toronto:20260428T210000
URL:https://mayfairtheatre.ca/movie/the-big-red-one/
LOCATION:1074 Bank St. Ottawa Ontario Canada K1S 3X3
SUMMARY:The Big Red One
CLASS:PUBLIC
DESCRIPTION:The Big Red One – Screening on April 25\, 26\, 28! Advance ti
 cket info coming soon for The Big Red One! A hardened sergeant and the fou
 r core members of his infantry unit try to survive World War II as they mo
 ve from battle to battle throughout Europe. Cannes Film…
DTSTAMP:20260420T063557Z
LAST-MODIFIED:20260419T082855Z
END:VEVENT
END:VCALENDAR