BEGIN:VCALENDAR
VERSION:2.0
PRODID:20260425T235009@https://mayfairtheatre.ca?barker_action=event-listin
 g-ical&event_listing_id=47804
X-WR-CALNAME:Mayfair Theatre Event Listings
BEGIN:VEVENT
UID:https://mayfairtheatre.ca/barker_event_listing/47804/
DTSTART;TZID=America/Toronto:20260531T140000
SEQUENCE:0
TRANSP:OPAQUE
DTEND;TZID=America/Toronto:20260531T140000
URL:https://mayfairtheatre.ca/movie/farewell-my-concubine/
LOCATION:1074 Bank St. Ottawa Ontario Canada K1S 3X3
SUMMARY:Farewell My Concubine
CLASS:PUBLIC
DESCRIPTION:Farewell My Concubine – Screening on Sunday May 31 at 2:00pm!
  Advance ticket info coming soon! Tickets: $20.00 Two boys meet at an oper
 a training school in Peking in 1924. Their resulting friendship will span 
 nearly 70 years and endure some of the most troublesome times in China’s
  history. Cannes…
DTSTAMP:20260426T035009Z
LAST-MODIFIED:20260425T170629Z
END:VEVENT
END:VCALENDAR